BEGIN:VCALENDAR
VERSION:2.0
PRODID:-//St. Bridget Knights of Columbus - ECPv6.15.20//NONSGML v1.0//EN
CALSCALE:GREGORIAN
METHOD:PUBLISH
X-WR-CALNAME:St. Bridget Knights of Columbus
X-ORIGINAL-URL:https://stbridgetknights.org
X-WR-CALDESC:Events for St. Bridget Knights of Columbus
REFRESH-INTERVAL;VALUE=DURATION:PT1H
X-Robots-Tag:noindex
X-PUBLISHED-TTL:PT1H
BEGIN:VTIMEZONE
TZID:UTC
BEGIN:STANDARD
TZOFFSETFROM:+0000
TZOFFSETTO:+0000
TZNAME:UTC
DTSTART:20230101T000000
END:STANDARD
END:VTIMEZONE
BEGIN:VEVENT
DTSTART;TZID=UTC:20241207T170000
DTEND;TZID=UTC:20241208T100000
DTSTAMP:20260424T165101
CREATED:20240815T173314Z
LAST-MODIFIED:20240815T173314Z
UID:10000065-1733590800-1733652000@stbridgetknights.org
SUMMARY:Clothing / Blanket Drive
DESCRIPTION:
URL:https://stbridgetknights.org/event/clothing-blanket-drive/
END:VEVENT
END:VCALENDAR