BEGIN:VCALENDAR
VERSION:2.0
PRODID:-//St. Bridget Knights of Columbus - ECPv6.15.20//NONSGML v1.0//EN
CALSCALE:GREGORIAN
METHOD:PUBLISH
X-WR-CALNAME:St. Bridget Knights of Columbus
X-ORIGINAL-URL:https://stbridgetknights.org
X-WR-CALDESC:Events for St. Bridget Knights of Columbus
REFRESH-INTERVAL;VALUE=DURATION:PT1H
X-Robots-Tag:noindex
X-PUBLISHED-TTL:PT1H
BEGIN:VTIMEZONE
TZID:UTC
BEGIN:STANDARD
TZOFFSETFROM:+0000
TZOFFSETTO:+0000
TZNAME:UTC
DTSTART:20240101T000000
END:STANDARD
END:VTIMEZONE
BEGIN:VEVENT
DTSTART;TZID=UTC:20250104T170000
DTEND;TZID=UTC:20250105T100000
DTSTAMP:20260424T153322
CREATED:20240815T173757Z
LAST-MODIFIED:20240815T173757Z
UID:10000067-1736010000-1736071200@stbridgetknights.org
SUMMARY:Roses for Life Weekend
DESCRIPTION:
URL:https://stbridgetknights.org/event/roses-for-life-weekend/
END:VEVENT
END:VCALENDAR