BEGIN:VCALENDAR
VERSION:2.0
PRODID:-//St. Bridget Knights of Columbus - ECPv6.15.20//NONSGML v1.0//EN
CALSCALE:GREGORIAN
METHOD:PUBLISH
X-ORIGINAL-URL:https://stbridgetknights.org
X-WR-CALDESC:Events for St. Bridget Knights of Columbus
REFRESH-INTERVAL;VALUE=DURATION:PT1H
X-Robots-Tag:noindex
X-PUBLISHED-TTL:PT1H
BEGIN:VTIMEZONE
TZID:UTC
BEGIN:STANDARD
TZOFFSETFROM:+0000
TZOFFSETTO:+0000
TZNAME:UTC
DTSTART:20240101T000000
END:STANDARD
END:VTIMEZONE
BEGIN:VEVENT
DTSTART;TZID=UTC:20250314T170000
DTEND;TZID=UTC:20250314T183000
DTSTAMP:20260424T122048
CREATED:20240815T174522Z
LAST-MODIFIED:20250217T022831Z
UID:10000072-1741971600-1741977000@stbridgetknights.org
SUMMARY:Fish Fry #1 (5pm-6:30pm)
DESCRIPTION:
URL:https://stbridgetknights.org/event/fish-fry-1/
END:VEVENT
END:VCALENDAR