BEGIN:VCALENDAR
VERSION:2.0
PRODID:-//St. Bridget Knights of Columbus - ECPv6.15.20//NONSGML v1.0//EN
CALSCALE:GREGORIAN
METHOD:PUBLISH
X-ORIGINAL-URL:https://stbridgetknights.org
X-WR-CALDESC:Events for St. Bridget Knights of Columbus
REFRESH-INTERVAL;VALUE=DURATION:PT1H
X-Robots-Tag:noindex
X-PUBLISHED-TTL:PT1H
BEGIN:VTIMEZONE
TZID:UTC
BEGIN:STANDARD
TZOFFSETFROM:+0000
TZOFFSETTO:+0000
TZNAME:UTC
DTSTART:20240101T000000
END:STANDARD
END:VTIMEZONE
BEGIN:VEVENT
DTSTART;TZID=UTC:20251203T183000
DTEND;TZID=UTC:20251203T190000
DTSTAMP:20260423T225249
CREATED:20250907T210739Z
LAST-MODIFIED:20250907T210739Z
UID:10000096-1764786600-1764788400@stbridgetknights.org
SUMMARY:Family Prayer Night
DESCRIPTION:
URL:https://stbridgetknights.org/event/family-prayer-night/
END:VEVENT
END:VCALENDAR