BEGIN:VCALENDAR
VERSION:2.0
PRODID:-//St. Bridget Knights of Columbus - ECPv6.15.20//NONSGML v1.0//EN
CALSCALE:GREGORIAN
METHOD:PUBLISH
X-WR-CALNAME:St. Bridget Knights of Columbus
X-ORIGINAL-URL:https://stbridgetknights.org
X-WR-CALDESC:Events for St. Bridget Knights of Columbus
REFRESH-INTERVAL;VALUE=DURATION:PT1H
X-Robots-Tag:noindex
X-PUBLISHED-TTL:PT1H
BEGIN:VTIMEZONE
TZID:UTC
BEGIN:STANDARD
TZOFFSETFROM:+0000
TZOFFSETTO:+0000
TZNAME:UTC
DTSTART:20250101T000000
END:STANDARD
END:VTIMEZONE
BEGIN:VEVENT
DTSTART;TZID=UTC:20260611T190000
DTEND;TZID=UTC:20260611T200000
DTSTAMP:20260423T230159
CREATED:20250907T214644Z
LAST-MODIFIED:20250907T214644Z
UID:10000116-1781204400-1781208000@stbridgetknights.org
SUMMARY:Knights Council Meeting
DESCRIPTION:Rosary at 6:30pm
URL:https://stbridgetknights.org/event/knights-council-meeting-20/
END:VEVENT
BEGIN:VEVENT
DTSTART;TZID=UTC:20260619T170000
DTEND;TZID=UTC:20260619T190000
DTSTAMP:20260423T230159
CREATED:20250907T214723Z
LAST-MODIFIED:20250907T214723Z
UID:10000117-1781888400-1781895600@stbridgetknights.org
SUMMARY:Cruise Night
DESCRIPTION:
URL:https://stbridgetknights.org/event/cruise-night-2/
END:VEVENT
BEGIN:VEVENT
DTSTART;TZID=UTC:20260620T080000
DTEND;TZID=UTC:20260621T170000
DTSTAMP:20260423T230159
CREATED:20250907T214900Z
LAST-MODIFIED:20250907T214900Z
UID:10000118-1781942400-1782061200@stbridgetknights.org
SUMMARY:Father's Day Weekend
DESCRIPTION:
URL:https://stbridgetknights.org/event/fathers-day-weekend-2/
END:VEVENT
END:VCALENDAR