BEGIN:VCALENDAR
VERSION:2.0
PRODID:-//St. Bridget Knights of Columbus - ECPv6.15.20//NONSGML v1.0//EN
CALSCALE:GREGORIAN
METHOD:PUBLISH
X-WR-CALNAME:St. Bridget Knights of Columbus
X-ORIGINAL-URL:https://stbridgetknights.org
X-WR-CALDESC:Events for St. Bridget Knights of Columbus
REFRESH-INTERVAL;VALUE=DURATION:PT1H
X-Robots-Tag:noindex
X-PUBLISHED-TTL:PT1H
BEGIN:VTIMEZONE
TZID:UTC
BEGIN:STANDARD
TZOFFSETFROM:+0000
TZOFFSETTO:+0000
TZNAME:UTC
DTSTART:20240101T000000
END:STANDARD
END:VTIMEZONE
BEGIN:VEVENT
DTSTART;TZID=UTC:20251025T170000
DTEND;TZID=UTC:20251025T210000
DTSTAMP:20260424T002051
CREATED:20251005T170647Z
LAST-MODIFIED:20251005T170647Z
UID:10000119-1761411600-1761426000@stbridgetknights.org
SUMMARY:Haunted Hayride at Scott's
DESCRIPTION:
URL:https://stbridgetknights.org/event/haunted-hayride-at-scotts/
END:VEVENT
BEGIN:VEVENT
DTSTART;TZID=UTC:20251018T183000
DTEND;TZID=UTC:20251018T210000
DTSTAMP:20260424T002051
CREATED:20250907T205247Z
LAST-MODIFIED:20251005T170537Z
UID:10000089-1760812200-1760821200@stbridgetknights.org
SUMMARY:Social Knight at DJ's
DESCRIPTION:
URL:https://stbridgetknights.org/event/social-knight-tbd/
END:VEVENT
BEGIN:VEVENT
DTSTART;TZID=UTC:20251017T170000
DTEND;TZID=UTC:20251017T200000
DTSTAMP:20260424T002051
CREATED:20250907T204849Z
LAST-MODIFIED:20250907T204849Z
UID:10000088-1760720400-1760731200@stbridgetknights.org
SUMMARY:Cruise Night at Pleasant Hill Square
DESCRIPTION:Join us at Cruise Nights during the summer on the 3rd Friday of each month through October. Look for our huge smoking grill!
URL:https://stbridgetknights.org/event/cruise-night-at-pleasant-hill-square-7/
END:VEVENT
BEGIN:VEVENT
DTSTART;TZID=UTC:20251009T190000
DTEND;TZID=UTC:20251009T200000
DTSTAMP:20260424T002051
CREATED:20250907T204000Z
LAST-MODIFIED:20250907T204000Z
UID:10000086-1760036400-1760040000@stbridgetknights.org
SUMMARY:Knights Council Meeting
DESCRIPTION:Rosary at 6:30pm.
URL:https://stbridgetknights.org/event/knights-council-meeting-12/
END:VEVENT
BEGIN:VEVENT
DTSTART;TZID=UTC:20251005T090000
DTEND;TZID=UTC:20251005T093000
DTSTAMP:20260424T002051
CREATED:20250907T203756Z
LAST-MODIFIED:20250907T203756Z
UID:10000085-1759654800-1759656600@stbridgetknights.org
SUMMARY:Donut Sunday
DESCRIPTION:
URL:https://stbridgetknights.org/event/donut-sunday/
END:VEVENT
BEGIN:VEVENT
DTSTART;TZID=UTC:20251003T170000
DTEND;TZID=UTC:20251005T170000
DTSTAMP:20260424T002051
CREATED:20250907T203617Z
LAST-MODIFIED:20250907T203617Z
UID:10000084-1759510800-1759683600@stbridgetknights.org
SUMMARY:Tootsie Roll Drive
DESCRIPTION:
URL:https://stbridgetknights.org/event/tootsie-roll-drive-2/
END:VEVENT
BEGIN:VEVENT
DTSTART;TZID=UTC:20250919T170000
DTEND;TZID=UTC:20250919T200000
DTSTAMP:20260424T002051
CREATED:20250907T203423Z
LAST-MODIFIED:20250907T203423Z
UID:10000083-1758301200-1758312000@stbridgetknights.org
SUMMARY:Cruise Night at Pleasant Hill Square
DESCRIPTION:Join us at Cruise Nights during the summer on the 3rd Friday of each month through October. Look for our huge smoking grill!
URL:https://stbridgetknights.org/event/cruise-night-at-pleasant-hill-square-6/
END:VEVENT
BEGIN:VEVENT
DTSTART;TZID=UTC:20250914T090000
DTEND;TZID=UTC:20250914T100000
DTSTAMP:20260424T002051
CREATED:20250907T203251Z
LAST-MODIFIED:20250907T203251Z
UID:10000082-1757840400-1757844000@stbridgetknights.org
SUMMARY:Sunday Breakfast
DESCRIPTION:Join us after Mass for eggs\, sausage\, biscuits and gravy\, french toast\, fruit\, coffee and juice.
URL:https://stbridgetknights.org/event/sunday-breakfast-2/
END:VEVENT
BEGIN:VEVENT
DTSTART;TZID=UTC:20250911T190000
DTEND;TZID=UTC:20250911T200000
DTSTAMP:20260424T002051
CREATED:20250907T203103Z
LAST-MODIFIED:20250907T203103Z
UID:10000081-1757617200-1757620800@stbridgetknights.org
SUMMARY:Knights Council Meeting
DESCRIPTION:Rosary at 6:30pm.
URL:https://stbridgetknights.org/event/knights-council-meeting-11/
END:VEVENT
BEGIN:VEVENT
DTSTART;TZID=UTC:20250620T170000
DTEND;TZID=UTC:20250620T200000
DTSTAMP:20260424T002051
CREATED:20240815T171741Z
LAST-MODIFIED:20240815T171741Z
UID:10000061-1750438800-1750449600@stbridgetknights.org
SUMMARY:Cruise Night at Pleasant Hill Square
DESCRIPTION:Join us at Cruise Nights during the summer on the 3rd Friday of each month through October. Look for our huge smoking grill!
URL:https://stbridgetknights.org/event/cruise-night-at-pleasant-hill-square-5/
END:VEVENT
BEGIN:VEVENT
DTSTART;VALUE=DATE:20250615
DTEND;VALUE=DATE:20250616
DTSTAMP:20260424T002051
CREATED:20240815T175541Z
LAST-MODIFIED:20240815T175541Z
UID:10000079-1749945600-1750031999@stbridgetknights.org
SUMMARY:Father's Day Weekend
DESCRIPTION:
URL:https://stbridgetknights.org/event/fathers-day-weekend/
END:VEVENT
BEGIN:VEVENT
DTSTART;TZID=UTC:20250612T190000
DTEND;TZID=UTC:20250612T200000
DTSTAMP:20260424T002051
CREATED:20240815T171402Z
LAST-MODIFIED:20240815T171402Z
UID:10000059-1749754800-1749758400@stbridgetknights.org
SUMMARY:Knights Council Meeting
DESCRIPTION:
URL:https://stbridgetknights.org/event/knights-council-meeting-10/
END:VEVENT
BEGIN:VEVENT
DTSTART;TZID=UTC:20250518T090000
DTEND;TZID=UTC:20250518T100000
DTSTAMP:20260424T002051
CREATED:20240815T175345Z
LAST-MODIFIED:20240815T175345Z
UID:10000078-1747558800-1747562400@stbridgetknights.org
SUMMARY:Baby Bottle Fundraiser Concludes
DESCRIPTION:
URL:https://stbridgetknights.org/event/baby-bottle-fundraiser-concludes/
END:VEVENT
BEGIN:VEVENT
DTSTART;TZID=UTC:20250516T170000
DTEND;TZID=UTC:20250516T200000
DTSTAMP:20260424T002051
CREATED:20240815T171657Z
LAST-MODIFIED:20240815T171657Z
UID:10000060-1747414800-1747425600@stbridgetknights.org
SUMMARY:Cruise Night at Pleasant Hill Square
DESCRIPTION:Join us at Cruise Nights during the summer on the 3rd Friday of each month through October. Look for our huge smoking grill!
URL:https://stbridgetknights.org/event/cruise-night-at-pleasant-hill-square-4/
END:VEVENT
BEGIN:VEVENT
DTSTART;TZID=UTC:20250511T090000
DTEND;TZID=UTC:20250511T100000
DTSTAMP:20260424T002051
CREATED:20240815T175156Z
LAST-MODIFIED:20240815T175156Z
UID:10000077-1746954000-1746957600@stbridgetknights.org
SUMMARY:Mother's Day Breakfast
DESCRIPTION:
URL:https://stbridgetknights.org/event/mothers-day-breakfast/
END:VEVENT
BEGIN:VEVENT
DTSTART;TZID=UTC:20250508T190000
DTEND;TZID=UTC:20250508T200000
DTSTAMP:20260424T002051
CREATED:20240815T171330Z
LAST-MODIFIED:20240815T171330Z
UID:10000058-1746730800-1746734400@stbridgetknights.org
SUMMARY:Knights Council Meeting
DESCRIPTION:
URL:https://stbridgetknights.org/event/knights-council-meeting-9/
END:VEVENT
BEGIN:VEVENT
DTSTART;TZID=UTC:20250427T090000
DTEND;TZID=UTC:20250427T100000
DTSTAMP:20260424T002051
CREATED:20240815T175003Z
LAST-MODIFIED:20240815T175003Z
UID:10000076-1745744400-1745748000@stbridgetknights.org
SUMMARY:Baby Bottle Fundraiser Begins
DESCRIPTION:
URL:https://stbridgetknights.org/event/baby-bottle-fundraiser-begins/
END:VEVENT
BEGIN:VEVENT
DTSTART;TZID=UTC:20250420T100000
DTEND;TZID=UTC:20250420T103000
DTSTAMP:20260424T002051
CREATED:20240815T174907Z
LAST-MODIFIED:20240815T174907Z
UID:10000075-1745143200-1745145000@stbridgetknights.org
SUMMARY:Easter Egg Hunt
DESCRIPTION:
URL:https://stbridgetknights.org/event/easter-egg-hunt/
END:VEVENT
BEGIN:VEVENT
DTSTART;TZID=UTC:20250411T170000
DTEND;TZID=UTC:20250411T183000
DTSTAMP:20260424T002051
CREATED:20240815T174651Z
LAST-MODIFIED:20250217T023008Z
UID:10000074-1744390800-1744396200@stbridgetknights.org
SUMMARY:Fish Fry #3 (5pm-6:30pm)
DESCRIPTION:
URL:https://stbridgetknights.org/event/fish-fry-3/
END:VEVENT
BEGIN:VEVENT
DTSTART;TZID=UTC:20250410T190000
DTEND;TZID=UTC:20250410T200000
DTSTAMP:20260424T002051
CREATED:20240815T171247Z
LAST-MODIFIED:20240815T171247Z
UID:10000057-1744311600-1744315200@stbridgetknights.org
SUMMARY:Knights Council Meeting
DESCRIPTION:
URL:https://stbridgetknights.org/event/knights-council-meeting-8/
END:VEVENT
BEGIN:VEVENT
DTSTART;TZID=UTC:20250328T170000
DTEND;TZID=UTC:20250328T183000
DTSTAMP:20260424T002051
CREATED:20240815T174607Z
LAST-MODIFIED:20250217T022918Z
UID:10000073-1743181200-1743186600@stbridgetknights.org
SUMMARY:Fish Fry #2 (5pm-6:30pm)
DESCRIPTION:
URL:https://stbridgetknights.org/event/fish-fry-2/
END:VEVENT
BEGIN:VEVENT
DTSTART;TZID=UTC:20250314T170000
DTEND;TZID=UTC:20250314T183000
DTSTAMP:20260424T002051
CREATED:20240815T174522Z
LAST-MODIFIED:20250217T022831Z
UID:10000072-1741971600-1741977000@stbridgetknights.org
SUMMARY:Fish Fry #1 (5pm-6:30pm)
DESCRIPTION:
URL:https://stbridgetknights.org/event/fish-fry-1/
END:VEVENT
BEGIN:VEVENT
DTSTART;TZID=UTC:20250313T190000
DTEND;TZID=UTC:20250313T200000
DTSTAMP:20260424T002051
CREATED:20250217T022431Z
LAST-MODIFIED:20250217T022431Z
UID:10000080-1741892400-1741896000@stbridgetknights.org
SUMMARY:Knights Council Meeting
DESCRIPTION:
URL:https://stbridgetknights.org/event/knights-council-meeting-7/
END:VEVENT
BEGIN:VEVENT
DTSTART;TZID=UTC:20250312T190000
DTEND;TZID=UTC:20250312T200000
DTSTAMP:20260424T002051
CREATED:20250907T212735Z
LAST-MODIFIED:20250907T212735Z
UID:10000107-1741806000-1741809600@stbridgetknights.org
SUMMARY:Knights Council Meeting
DESCRIPTION:
URL:https://stbridgetknights.org/event/knights-council-meeting-17/
END:VEVENT
BEGIN:VEVENT
DTSTART;TZID=UTC:20250307T190000
DTEND;TZID=UTC:20250307T200000
DTSTAMP:20260424T002051
CREATED:20240815T174406Z
LAST-MODIFIED:20240815T174406Z
UID:10000071-1741374000-1741377600@stbridgetknights.org
SUMMARY:First Friday Mass
DESCRIPTION:
URL:https://stbridgetknights.org/event/first-friday-mass/
END:VEVENT
BEGIN:VEVENT
DTSTART;VALUE=DATE:20250305
DTEND;VALUE=DATE:20250306
DTSTAMP:20260424T002051
CREATED:20240815T174207Z
LAST-MODIFIED:20240815T174207Z
UID:10000070-1741132800-1741219199@stbridgetknights.org
SUMMARY:Ash Wednesday
DESCRIPTION:
URL:https://stbridgetknights.org/event/ash-wednesday/
END:VEVENT
BEGIN:VEVENT
DTSTART;TZID=UTC:20250213T190000
DTEND;TZID=UTC:20250213T200000
DTSTAMP:20260424T002051
CREATED:20240815T171118Z
LAST-MODIFIED:20240815T171118Z
UID:10000055-1739473200-1739476800@stbridgetknights.org
SUMMARY:Knights Council Meeting
DESCRIPTION:
URL:https://stbridgetknights.org/event/knights-council-meeting-6/
END:VEVENT
BEGIN:VEVENT
DTSTART;TZID=UTC:20250125T080000
DTEND;TZID=UTC:20250125T170000
DTSTAMP:20260424T002051
CREATED:20240815T174115Z
LAST-MODIFIED:20240815T174115Z
UID:10000069-1737792000-1737824400@stbridgetknights.org
SUMMARY:Free Throw Contest
DESCRIPTION:
URL:https://stbridgetknights.org/event/free-throw-contest/
END:VEVENT
BEGIN:VEVENT
DTSTART;TZID=UTC:20250121T080000
DTEND;TZID=UTC:20250121T170000
DTSTAMP:20260424T002051
CREATED:20240815T174024Z
LAST-MODIFIED:20240815T174024Z
UID:10000068-1737446400-1737478800@stbridgetknights.org
SUMMARY:Blood Drive
DESCRIPTION:
URL:https://stbridgetknights.org/event/blood-drive/
END:VEVENT
BEGIN:VEVENT
DTSTART;TZID=UTC:20250109T190000
DTEND;TZID=UTC:20250109T200000
DTSTAMP:20260424T002051
CREATED:20240815T171042Z
LAST-MODIFIED:20240815T171042Z
UID:10000054-1736449200-1736452800@stbridgetknights.org
SUMMARY:Knights Council Meeting
DESCRIPTION:
URL:https://stbridgetknights.org/event/knights-council-meeting-5/
END:VEVENT
END:VCALENDAR