BEGIN:VCALENDAR
VERSION:2.0
PRODID:-//St. Bridget Knights of Columbus - ECPv6.15.20//NONSGML v1.0//EN
CALSCALE:GREGORIAN
METHOD:PUBLISH
X-WR-CALNAME:St. Bridget Knights of Columbus
X-ORIGINAL-URL:https://stbridgetknights.org
X-WR-CALDESC:Events for St. Bridget Knights of Columbus
REFRESH-INTERVAL;VALUE=DURATION:PT1H
X-Robots-Tag:noindex
X-PUBLISHED-TTL:PT1H
BEGIN:VTIMEZONE
TZID:UTC
BEGIN:STANDARD
TZOFFSETFROM:+0000
TZOFFSETTO:+0000
TZNAME:UTC
DTSTART:20230101T000000
END:STANDARD
END:VTIMEZONE
BEGIN:VEVENT
DTSTART;TZID=UTC:20241116T170000
DTEND;TZID=UTC:20241117T100000
DTSTAMP:20260424T124647
CREATED:20240815T172533Z
LAST-MODIFIED:20240815T172533Z
UID:10000063-1731776400-1731837600@stbridgetknights.org
SUMMARY:Food For Families
DESCRIPTION:
URL:https://stbridgetknights.org/event/food-for-families/
END:VEVENT
BEGIN:VEVENT
DTSTART;TZID=UTC:20241114T190000
DTEND;TZID=UTC:20241114T200000
DTSTAMP:20260424T124647
CREATED:20240815T170944Z
LAST-MODIFIED:20240815T170944Z
UID:10000052-1731610800-1731614400@stbridgetknights.org
SUMMARY:Knights Council Meeting
DESCRIPTION:
URL:https://stbridgetknights.org/event/knights-council-meeting-3/
END:VEVENT
BEGIN:VEVENT
DTSTART;TZID=UTC:20241018T170000
DTEND;TZID=UTC:20241018T200000
DTSTAMP:20260424T124647
CREATED:20240815T170825Z
LAST-MODIFIED:20240815T170825Z
UID:10000050-1729270800-1729281600@stbridgetknights.org
SUMMARY:Cruise Night at Pleasant Hill Square
DESCRIPTION:Join us at Cruise Nights during the summer on the 3rd Friday of each month through October. Look for our huge smoking grill!
URL:https://stbridgetknights.org/event/cruise-night-at-pleasant-hill-square-3/
END:VEVENT
BEGIN:VEVENT
DTSTART;TZID=UTC:20241010T190000
DTEND;TZID=UTC:20241010T200000
DTSTAMP:20260424T124647
CREATED:20240815T170906Z
LAST-MODIFIED:20240815T170906Z
UID:10000051-1728586800-1728590400@stbridgetknights.org
SUMMARY:Knights Council Meeting
DESCRIPTION:
URL:https://stbridgetknights.org/event/knights-council-meeting-2/
END:VEVENT
BEGIN:VEVENT
DTSTART;TZID=UTC:20241004T170000
DTEND;TZID=UTC:20241006T170000
DTSTAMP:20260424T124647
CREATED:20240815T172006Z
LAST-MODIFIED:20240815T172006Z
UID:10000062-1728061200-1728234000@stbridgetknights.org
SUMMARY:Tootsie Roll Drive
DESCRIPTION:
URL:https://stbridgetknights.org/event/tootsie-roll-drive/
END:VEVENT
BEGIN:VEVENT
DTSTART;TZID=UTC:20240920T170000
DTEND;TZID=UTC:20240920T200000
DTSTAMP:20260424T124647
CREATED:20240815T170713Z
LAST-MODIFIED:20240815T170713Z
UID:10000049-1726851600-1726862400@stbridgetknights.org
SUMMARY:Cruise Night at Pleasant Hill Square
DESCRIPTION:Join us at Cruise Nights during the summer on the 3rd Friday of each month through October. Look for our huge smoking grill!
URL:https://stbridgetknights.org/event/cruise-night-at-pleasant-hill-square-2/
END:VEVENT
BEGIN:VEVENT
DTSTART;TZID=UTC:20240915T090000
DTEND;TZID=UTC:20240915T100000
DTSTAMP:20260424T124647
CREATED:20240815T170049Z
LAST-MODIFIED:20240815T170250Z
UID:10000048-1726390800-1726394400@stbridgetknights.org
SUMMARY:Sunday Breakfast
DESCRIPTION:Join us after Mass for eggs\, sausage\, biscuits and gravy\, french toast\, fruit\, coffee and juice.
URL:https://stbridgetknights.org/event/sunday-breakfast-after-mass/
END:VEVENT
BEGIN:VEVENT
DTSTART;TZID=UTC:20240912T190000
DTEND;TZID=UTC:20240912T200000
DTSTAMP:20260424T124647
CREATED:20240815T165930Z
LAST-MODIFIED:20240815T165930Z
UID:10000047-1726167600-1726171200@stbridgetknights.org
SUMMARY:Knights Council Meeting
DESCRIPTION:
URL:https://stbridgetknights.org/event/knights-council-meeting/
END:VEVENT
BEGIN:VEVENT
DTSTART;TZID=UTC:20240816T170000
DTEND;TZID=UTC:20240816T200000
DTSTAMP:20260424T124647
CREATED:20240815T165752Z
LAST-MODIFIED:20240815T170614Z
UID:10000046-1723827600-1723838400@stbridgetknights.org
SUMMARY:Cruise Night at Pleasant Hill Square
DESCRIPTION:Join us at Cruise Nights during the summer on the 3rd Friday of each month through October. Look for our huge smoking grill!
URL:https://stbridgetknights.org/event/cruise-night-at-pleasant-hill-square/
END:VEVENT
END:VCALENDAR