BEGIN:VCALENDAR
VERSION:2.0
PRODID:-//St. Bridget Knights of Columbus - ECPv6.15.20//NONSGML v1.0//EN
CALSCALE:GREGORIAN
METHOD:PUBLISH
X-ORIGINAL-URL:https://stbridgetknights.org
X-WR-CALDESC:Events for St. Bridget Knights of Columbus
REFRESH-INTERVAL;VALUE=DURATION:PT1H
X-Robots-Tag:noindex
X-PUBLISHED-TTL:PT1H
BEGIN:VTIMEZONE
TZID:UTC
BEGIN:STANDARD
TZOFFSETFROM:+0000
TZOFFSETTO:+0000
TZNAME:UTC
DTSTART:20230101T000000
END:STANDARD
END:VTIMEZONE
BEGIN:VEVENT
DTSTART;TZID=UTC:20241004T170000
DTEND;TZID=UTC:20241006T170000
DTSTAMP:20260424T182909
CREATED:20240815T172006Z
LAST-MODIFIED:20240815T172006Z
UID:10000062-1728061200-1728234000@stbridgetknights.org
SUMMARY:Tootsie Roll Drive
DESCRIPTION:
URL:https://stbridgetknights.org/event/tootsie-roll-drive/
END:VEVENT
BEGIN:VEVENT
DTSTART;TZID=UTC:20241010T190000
DTEND;TZID=UTC:20241010T200000
DTSTAMP:20260424T182909
CREATED:20240815T170906Z
LAST-MODIFIED:20240815T170906Z
UID:10000051-1728586800-1728590400@stbridgetknights.org
SUMMARY:Knights Council Meeting
DESCRIPTION:
URL:https://stbridgetknights.org/event/knights-council-meeting-2/
END:VEVENT
BEGIN:VEVENT
DTSTART;TZID=UTC:20241018T170000
DTEND;TZID=UTC:20241018T200000
DTSTAMP:20260424T182909
CREATED:20240815T170825Z
LAST-MODIFIED:20240815T170825Z
UID:10000050-1729270800-1729281600@stbridgetknights.org
SUMMARY:Cruise Night at Pleasant Hill Square
DESCRIPTION:Join us at Cruise Nights during the summer on the 3rd Friday of each month through October. Look for our huge smoking grill!
URL:https://stbridgetknights.org/event/cruise-night-at-pleasant-hill-square-3/
END:VEVENT
END:VCALENDAR