BEGIN:VCALENDAR
VERSION:2.0
PRODID:-//St. Bridget Knights of Columbus - ECPv6.15.20//NONSGML v1.0//EN
CALSCALE:GREGORIAN
METHOD:PUBLISH
X-WR-CALNAME:St. Bridget Knights of Columbus
X-ORIGINAL-URL:https://stbridgetknights.org
X-WR-CALDESC:Events for St. Bridget Knights of Columbus
REFRESH-INTERVAL;VALUE=DURATION:PT1H
X-Robots-Tag:noindex
X-PUBLISHED-TTL:PT1H
BEGIN:VTIMEZONE
TZID:UTC
BEGIN:STANDARD
TZOFFSETFROM:+0000
TZOFFSETTO:+0000
TZNAME:UTC
DTSTART:20240101T000000
END:STANDARD
END:VTIMEZONE
BEGIN:VEVENT
DTSTART;TZID=UTC:20250508T190000
DTEND;TZID=UTC:20250508T200000
DTSTAMP:20260424T090943
CREATED:20240815T171330Z
LAST-MODIFIED:20240815T171330Z
UID:10000058-1746730800-1746734400@stbridgetknights.org
SUMMARY:Knights Council Meeting
DESCRIPTION:
URL:https://stbridgetknights.org/event/knights-council-meeting-9/
END:VEVENT
BEGIN:VEVENT
DTSTART;TZID=UTC:20250511T090000
DTEND;TZID=UTC:20250511T100000
DTSTAMP:20260424T090943
CREATED:20240815T175156Z
LAST-MODIFIED:20240815T175156Z
UID:10000077-1746954000-1746957600@stbridgetknights.org
SUMMARY:Mother's Day Breakfast
DESCRIPTION:
URL:https://stbridgetknights.org/event/mothers-day-breakfast/
END:VEVENT
BEGIN:VEVENT
DTSTART;TZID=UTC:20250516T170000
DTEND;TZID=UTC:20250516T200000
DTSTAMP:20260424T090943
CREATED:20240815T171657Z
LAST-MODIFIED:20240815T171657Z
UID:10000060-1747414800-1747425600@stbridgetknights.org
SUMMARY:Cruise Night at Pleasant Hill Square
DESCRIPTION:Join us at Cruise Nights during the summer on the 3rd Friday of each month through October. Look for our huge smoking grill!
URL:https://stbridgetknights.org/event/cruise-night-at-pleasant-hill-square-4/
END:VEVENT
BEGIN:VEVENT
DTSTART;TZID=UTC:20250518T090000
DTEND;TZID=UTC:20250518T100000
DTSTAMP:20260424T090943
CREATED:20240815T175345Z
LAST-MODIFIED:20240815T175345Z
UID:10000078-1747558800-1747562400@stbridgetknights.org
SUMMARY:Baby Bottle Fundraiser Concludes
DESCRIPTION:
URL:https://stbridgetknights.org/event/baby-bottle-fundraiser-concludes/
END:VEVENT
END:VCALENDAR