BEGIN:VCALENDAR
VERSION:2.0
PRODID:-//St. Bridget Knights of Columbus - ECPv6.15.20//NONSGML v1.0//EN
CALSCALE:GREGORIAN
METHOD:PUBLISH
X-WR-CALNAME:St. Bridget Knights of Columbus
X-ORIGINAL-URL:https://stbridgetknights.org
X-WR-CALDESC:Events for St. Bridget Knights of Columbus
REFRESH-INTERVAL;VALUE=DURATION:PT1H
X-Robots-Tag:noindex
X-PUBLISHED-TTL:PT1H
BEGIN:VTIMEZONE
TZID:UTC
BEGIN:STANDARD
TZOFFSETFROM:+0000
TZOFFSETTO:+0000
TZNAME:UTC
DTSTART:20250101T000000
END:STANDARD
END:VTIMEZONE
BEGIN:VEVENT
DTSTART;TZID=UTC:20260103T080000
DTEND;TZID=UTC:20260104T170000
DTSTAMP:20260423T194036
CREATED:20250907T211711Z
LAST-MODIFIED:20251216T144519Z
UID:10000100-1767427200-1767546000@stbridgetknights.org
SUMMARY:Roses for Life
DESCRIPTION:
URL:https://stbridgetknights.org/event/roses-for-life/
END:VEVENT
BEGIN:VEVENT
DTSTART;TZID=UTC:20260108T190000
DTEND;TZID=UTC:20260108T200000
DTSTAMP:20260423T194036
CREATED:20250907T211517Z
LAST-MODIFIED:20250907T211517Z
UID:10000099-1767898800-1767902400@stbridgetknights.org
SUMMARY:Knights Council Meeting
DESCRIPTION:Rosary at 6:30pm
URL:https://stbridgetknights.org/event/knights-council-meeting-15/
END:VEVENT
BEGIN:VEVENT
DTSTART;TZID=UTC:20260117T080000
DTEND;TZID=UTC:20260118T170000
DTSTAMP:20260423T194036
CREATED:20251216T145213Z
LAST-MODIFIED:20251216T145213Z
UID:10000120-1768636800-1768755600@stbridgetknights.org
SUMMARY:Membership Drive Weekend
DESCRIPTION:
URL:https://stbridgetknights.org/event/membership-drive-weekend/
END:VEVENT
END:VCALENDAR